Package: HiCool Version: 1.9.1 Command: rm -rf HiCool.buildbin-libdir && mkdir HiCool.buildbin-libdir && /Users/biocbuild/BBS/utils/build-universal.sh HiCool_1.9.1.tar.gz /Library/Frameworks/R.framework/Resources/bin/R HiCool.buildbin-libdir StartedAt: 2025-10-13 22:45:26 -0400 (Mon, 13 Oct 2025) EndedAt: 2025-10-13 22:45:37 -0400 (Mon, 13 Oct 2025) EllapsedTime: 11.2 seconds RetCode: 0 Status: OK PackageFile: HiCool_1.9.1.tgz PackageFileSize: 726.9 KiB