Package: HiContacts Version: 1.11.0 Command: /home/biocbuild/R/R/bin/R CMD build --keep-empty-dirs --no-resave-data HiContacts StartedAt: 2025-10-14 00:57:28 -0000 (Tue, 14 Oct 2025) EndedAt: 2025-10-14 01:00:52 -0000 (Tue, 14 Oct 2025) EllapsedTime: 204.1 seconds RetCode: 1 Status: ERROR PackageFile: None PackageFileSize: NA