Package: HiContacts Version: 1.13.0 Command: /home/biocbuild/bbs-3.23-bioc/R/bin/R CMD INSTALL HiContacts StartedAt: 2025-11-05 15:32:16 -0500 (Wed, 05 Nov 2025) EndedAt: 2025-11-05 15:32:45 -0500 (Wed, 05 Nov 2025) EllapsedTime: 28.4 seconds RetCode: 0 Status: OK