Package: HiContacts Version: 1.13.0 Command: /home/biocbuild/bbs-3.23-bioc/R/bin/R CMD check --install=check:HiContacts.install-out.txt --library=/home/biocbuild/bbs-3.23-bioc/R/site-library --timings HiContacts_1.13.0.tar.gz StartedAt: 2025-11-15 00:24:57 -0500 (Sat, 15 Nov 2025) EndedAt: 2025-11-15 00:39:07 -0500 (Sat, 15 Nov 2025) EllapsedTime: 849.6 seconds RetCode: 0 Status: OK CheckDir: HiContacts.Rcheck Warnings: 0