Package: HiContacts Version: 1.13.0 Command: /home/biocbuild/bbs-3.23-bioc/R/bin/R CMD build --keep-empty-dirs --no-resave-data HiContacts StartedAt: 2025-11-05 18:07:00 -0500 (Wed, 05 Nov 2025) EndedAt: 2025-11-05 18:12:24 -0500 (Wed, 05 Nov 2025) EllapsedTime: 323.4 seconds RetCode: 0 Status: OK PackageFile: HiContacts_1.13.0.tar.gz PackageFileSize: 4.439 MiB