Package: HiCcompare Version: 1.31.0 Command: /home/biocbuild/R/R/bin/R CMD INSTALL HiCcompare StartedAt: 2025-10-09 21:26:11 -0000 (Thu, 09 Oct 2025) EndedAt: 2025-10-09 21:26:54 -0000 (Thu, 09 Oct 2025) EllapsedTime: 43.5 seconds RetCode: 0 Status: OK