Package: HiCcompare Version: 1.31.0 Command: /home/biocbuild/R/R/bin/R CMD build --keep-empty-dirs --no-resave-data HiCcompare StartedAt: 2025-10-10 01:18:44 -0000 (Fri, 10 Oct 2025) EndedAt: 2025-10-10 01:19:59 -0000 (Fri, 10 Oct 2025) EllapsedTime: 75.0 seconds RetCode: 0 Status: OK PackageFile: HiCcompare_1.31.0.tar.gz PackageFileSize: 3.356 MiB