Package: HiCcompare Version: 1.31.0 Command: rm -rf HiCcompare.buildbin-libdir && mkdir HiCcompare.buildbin-libdir && F:\biocbuild\bbs-3.22-bioc\R\bin\R.exe CMD INSTALL --build --library=HiCcompare.buildbin-libdir HiCcompare_1.31.0.tar.gz StartedAt: 2025-08-15 10:27:53 -0400 (Fri, 15 Aug 2025) EndedAt: 2025-08-15 10:28:55 -0400 (Fri, 15 Aug 2025) EllapsedTime: 61.7 seconds RetCode: 0 Status: OK PackageFile: HiCcompare_1.31.0.zip PackageFileSize: 3.452 MiB