Package: HiCcompare Version: 1.33.0 Command: /home/biocbuild/bbs-3.23-bioc/R/bin/R CMD INSTALL HiCcompare StartedAt: 2025-11-20 15:30:53 -0500 (Thu, 20 Nov 2025) EndedAt: 2025-11-20 15:31:29 -0500 (Thu, 20 Nov 2025) EllapsedTime: 36.2 seconds RetCode: 0 Status: OK