Package: HiCcompare Version: 1.33.0 Command: /home/biocbuild/bbs-3.23-bioc/R/bin/R CMD check --install=check:HiCcompare.install-out.txt --library=/home/biocbuild/bbs-3.23-bioc/R/site-library --timings HiCcompare_1.33.0.tar.gz StartedAt: 2025-11-22 00:22:32 -0500 (Sat, 22 Nov 2025) EndedAt: 2025-11-22 00:26:56 -0500 (Sat, 22 Nov 2025) EllapsedTime: 264.3 seconds RetCode: 0 Status: OK CheckDir: HiCcompare.Rcheck Warnings: 0