Package: HiCcompare Version: 1.33.0 Command: /home/biocbuild/bbs-3.23-bioc/R/bin/R CMD build --keep-empty-dirs --no-resave-data HiCcompare StartedAt: 2025-11-20 18:04:26 -0500 (Thu, 20 Nov 2025) EndedAt: 2025-11-20 18:05:25 -0500 (Thu, 20 Nov 2025) EllapsedTime: 59.0 seconds RetCode: 0 Status: OK PackageFile: HiCcompare_1.33.0.tar.gz PackageFileSize: 3.596 MiB