Package: HiCaptuRe Version: 0.99.15 Command: /home/biocbuild/bbs-3.22-bioc/R/bin/R CMD check --install=check:HiCaptuRe.install-out.txt --library=/home/biocbuild/bbs-3.22-bioc/R/site-library --timings HiCaptuRe_0.99.15.tar.gz StartedAt: 2025-10-25 00:30:48 -0400 (Sat, 25 Oct 2025) EndedAt: 2025-10-25 00:38:52 -0400 (Sat, 25 Oct 2025) EllapsedTime: 484.5 seconds RetCode: 0 Status: OK CheckDir: HiCaptuRe.Rcheck Warnings: 0