Package: HiCaptuRe Version: 1.1.0 Command: /home/biocbuild/bbs-3.23-bioc/R/bin/R CMD INSTALL HiCaptuRe StartedAt: 2025-11-20 15:51:18 -0500 (Thu, 20 Nov 2025) EndedAt: 2025-11-20 15:52:13 -0500 (Thu, 20 Nov 2025) EllapsedTime: 55.4 seconds RetCode: 0 Status: OK