Package: HiCaptuRe Version: 1.1.0 Command: /home/biocbuild/bbs-3.23-bioc/R/bin/R CMD build --keep-empty-dirs --no-resave-data HiCaptuRe StartedAt: 2025-11-20 18:04:19 -0500 (Thu, 20 Nov 2025) EndedAt: 2025-11-20 18:06:33 -0500 (Thu, 20 Nov 2025) EllapsedTime: 133.1 seconds RetCode: 0 Status: OK PackageFile: HiCaptuRe_1.1.0.tar.gz PackageFileSize: 1.925 MiB