Package: HiCaptuRe Version: 0.99.15 Command: /Library/Frameworks/R.framework/Resources/bin/R CMD build --keep-empty-dirs --no-resave-data HiCaptuRe StartedAt: 2025-10-06 17:22:07 -0400 (Mon, 06 Oct 2025) EndedAt: 2025-10-06 17:25:21 -0400 (Mon, 06 Oct 2025) EllapsedTime: 193.7 seconds RetCode: 0 Status: OK PackageFile: HiCaptuRe_0.99.15.tar.gz PackageFileSize: 1.906 MiB