Package: HiCaptuRe Version: 0.99.15 Command: rm -rf HiCaptuRe.buildbin-libdir && mkdir HiCaptuRe.buildbin-libdir && /Users/biocbuild/BBS/utils/build-universal.sh HiCaptuRe_0.99.15.tar.gz /Library/Frameworks/R.framework/Resources/bin/R HiCaptuRe.buildbin-libdir StartedAt: 2025-10-06 02:04:57 -0400 (Mon, 06 Oct 2025) EndedAt: 2025-10-06 02:06:17 -0400 (Mon, 06 Oct 2025) EllapsedTime: 79.8 seconds RetCode: 0 Status: OK PackageFile: HiCaptuRe_0.99.15.tgz PackageFileSize: 2.336 MiB