Package: HiCaptuRe Version: 0.99.15 Maintainer: Laureano Tomas-Daza MaintainerEmail: lauretomas at gmail.com git_url: https://git.bioconductor.org/packages/HiCaptuRe git_branch: devel git_last_commit: f42ac20 git_last_commit_date: 2025-09-02 08:42:21 -0400 (Tue, 02 Sep 2025)