Package: HiCPotts Version: 1.1.0 Command: /home/biocbuild/bbs-3.23-bioc/R/bin/R CMD INSTALL HiCPotts StartedAt: 2025-11-04 15:27:49 -0500 (Tue, 04 Nov 2025) EndedAt: 2025-11-04 15:28:46 -0500 (Tue, 04 Nov 2025) EllapsedTime: 57.2 seconds RetCode: 0 Status: OK