Package: HiCPotts Version: 1.1.0 Command: /home/biocbuild/bbs-3.23-bioc/R/bin/R CMD build --keep-empty-dirs --no-resave-data HiCPotts StartedAt: 2025-11-05 18:07:40 -0500 (Wed, 05 Nov 2025) EndedAt: 2025-11-05 18:08:55 -0500 (Wed, 05 Nov 2025) EllapsedTime: 75.0 seconds RetCode: 0 Status: OK PackageFile: HiCPotts_1.1.0.tar.gz PackageFileSize: 1.719 MiB