Package: HiCPotts Version: 0.99.6 Command: /Library/Frameworks/R.framework/Resources/bin/R CMD INSTALL HiCPotts StartedAt: 2025-10-14 15:28:54 -0400 (Tue, 14 Oct 2025) EndedAt: 2025-10-14 15:30:01 -0400 (Tue, 14 Oct 2025) EllapsedTime: 66.8 seconds RetCode: 0 Status: OK