Package: HiCPotts Version: 0.99.6 Command: /Library/Frameworks/R.framework/Resources/bin/R CMD build --keep-empty-dirs --no-resave-data HiCPotts StartedAt: 2025-10-13 17:33:38 -0400 (Mon, 13 Oct 2025) EndedAt: 2025-10-13 17:35:50 -0400 (Mon, 13 Oct 2025) EllapsedTime: 131.3 seconds RetCode: 0 Status: OK PackageFile: HiCPotts_0.99.6.tar.gz PackageFileSize: 1.719 MiB