Package: HiCPotts Version: 0.99.6 Command: rm -rf HiCPotts.buildbin-libdir && mkdir HiCPotts.buildbin-libdir && /Users/biocbuild/BBS/utils/build-universal.sh HiCPotts_0.99.6.tar.gz /Library/Frameworks/R.framework/Resources/bin/R HiCPotts.buildbin-libdir StartedAt: 2025-10-14 02:48:41 -0400 (Tue, 14 Oct 2025) EndedAt: 2025-10-14 02:49:56 -0400 (Tue, 14 Oct 2025) EllapsedTime: 74.4 seconds RetCode: 0 Status: OK PackageFile: HiCPotts_0.99.6.tgz PackageFileSize: 1.841 MiB