Package: HiCParser Version: 1.1.1 Command: /home/biocbuild/R/R/bin/R CMD INSTALL HiCParser StartedAt: 2025-10-02 20:44:44 -0000 (Thu, 02 Oct 2025) EndedAt: 2025-10-02 20:45:25 -0000 (Thu, 02 Oct 2025) EllapsedTime: 40.2 seconds RetCode: 0 Status: OK