Package: HiCParser Version: 1.1.1 Command: /home/biocbuild/R/R/bin/R CMD build --keep-empty-dirs --no-resave-data HiCParser StartedAt: 2025-10-03 00:37:09 -0000 (Fri, 03 Oct 2025) EndedAt: 2025-10-03 00:38:13 -0000 (Fri, 03 Oct 2025) EllapsedTime: 64.0 seconds RetCode: 0 Status: OK PackageFile: HiCParser_1.1.1.tar.gz PackageFileSize: 392 KiB