Package: HiCParser Version: 1.1.1 Command: F:\biocbuild\bbs-3.22-bioc\R\bin\R.exe CMD INSTALL HiCParser StartedAt: 2025-08-14 16:04:54 -0400 (Thu, 14 Aug 2025) EndedAt: 2025-08-14 16:05:40 -0400 (Thu, 14 Aug 2025) EllapsedTime: 45.8 seconds RetCode: 0 Status: OK