Package: HiCParser Version: 1.1.1 Command: chmod a+r HiCParser -R && F:\biocbuild\bbs-3.22-bioc\R\bin\R.exe CMD build --keep-empty-dirs --no-resave-data HiCParser StartedAt: 2025-08-14 20:47:22 -0400 (Thu, 14 Aug 2025) EndedAt: 2025-08-14 20:48:27 -0400 (Thu, 14 Aug 2025) EllapsedTime: 64.5 seconds RetCode: 0 Status: OK PackageFile: HiCParser_1.1.1.tar.gz PackageFileSize: 324.8 KiB