Package: HiCParser Version: 1.1.1 Command: rm -rf HiCParser.buildbin-libdir && mkdir HiCParser.buildbin-libdir && F:\biocbuild\bbs-3.22-bioc\R\bin\R.exe CMD INSTALL --build --library=HiCParser.buildbin-libdir HiCParser_1.1.1.tar.gz StartedAt: 2025-08-15 10:28:05 -0400 (Fri, 15 Aug 2025) EndedAt: 2025-08-15 10:28:40 -0400 (Fri, 15 Aug 2025) EllapsedTime: 35.4 seconds RetCode: 0 Status: OK PackageFile: HiCParser_1.1.1.zip PackageFileSize: 767.1 KiB