Package: HiCParser Version: 1.3.0 Command: /home/biocbuild/bbs-3.23-bioc/R/bin/R CMD INSTALL HiCParser StartedAt: 2025-11-05 15:30:19 -0500 (Wed, 05 Nov 2025) EndedAt: 2025-11-05 15:30:49 -0500 (Wed, 05 Nov 2025) EllapsedTime: 29.5 seconds RetCode: 0 Status: OK