Package: HiCExperiment Version: 1.11.0 Command: /home/biocbuild/bbs-3.23-bioc/R/bin/R CMD build --keep-empty-dirs --no-resave-data HiCExperiment StartedAt: 2025-11-06 17:59:48 -0500 (Thu, 06 Nov 2025) EndedAt: 2025-11-06 18:02:36 -0500 (Thu, 06 Nov 2025) EllapsedTime: 168.2 seconds RetCode: 0 Status: OK PackageFile: HiCExperiment_1.11.0.tar.gz PackageFileSize: 1011 KiB