Package: HiCExperiment Version: 1.9.2 Command: /Library/Frameworks/R.framework/Resources/bin/R CMD INSTALL HiCExperiment StartedAt: 2025-10-14 15:25:09 -0400 (Tue, 14 Oct 2025) EndedAt: 2025-10-14 15:25:51 -0400 (Tue, 14 Oct 2025) EllapsedTime: 41.4 seconds RetCode: 0 Status: OK