Package: HiCExperiment Version: 1.9.2 Command: /Library/Frameworks/R.framework/Resources/bin/R CMD build --keep-empty-dirs --no-resave-data HiCExperiment StartedAt: 2025-10-13 17:33:24 -0400 (Mon, 13 Oct 2025) EndedAt: 2025-10-13 17:38:13 -0400 (Mon, 13 Oct 2025) EllapsedTime: 289.4 seconds RetCode: 0 Status: OK PackageFile: HiCExperiment_1.9.2.tar.gz PackageFileSize: 1011 KiB