Package: HiCExperiment Version: 1.9.2 Command: rm -rf HiCExperiment.buildbin-libdir && mkdir HiCExperiment.buildbin-libdir && /Users/biocbuild/BBS/utils/build-universal.sh HiCExperiment_1.9.2.tar.gz /Library/Frameworks/R.framework/Resources/bin/R HiCExperiment.buildbin-libdir StartedAt: 2025-10-14 02:48:34 -0400 (Tue, 14 Oct 2025) EndedAt: 2025-10-14 02:49:20 -0400 (Tue, 14 Oct 2025) EllapsedTime: 45.3 seconds RetCode: 0 Status: OK PackageFile: HiCExperiment_1.9.2.tgz PackageFileSize: 1.683 MiB