Package: HiCDOC Version: 1.13.0 Command: /home/biocbuild/bbs-3.23-bioc/R/bin/R CMD INSTALL HiCDOC StartedAt: 2025-11-05 15:39:06 -0500 (Wed, 05 Nov 2025) EndedAt: 2025-11-05 15:39:48 -0500 (Wed, 05 Nov 2025) EllapsedTime: 41.8 seconds RetCode: 0 Status: OK