Package: HiCDOC Version: 1.13.0 Command: /home/biocbuild/bbs-3.23-bioc/R/bin/R CMD build --keep-empty-dirs --no-resave-data HiCDOC StartedAt: 2025-11-06 17:59:34 -0500 (Thu, 06 Nov 2025) EndedAt: 2025-11-06 18:02:07 -0500 (Thu, 06 Nov 2025) EllapsedTime: 153.1 seconds RetCode: 0 Status: OK PackageFile: HiCDOC_1.13.0.tar.gz PackageFileSize: 3.427 MiB