Package: HiCDOC Version: 1.11.2 Command: /Library/Frameworks/R.framework/Resources/bin/R CMD INSTALL HiCDOC StartedAt: 2025-10-06 15:30:54 -0400 (Mon, 06 Oct 2025) EndedAt: 2025-10-06 15:31:50 -0400 (Mon, 06 Oct 2025) EllapsedTime: 56.3 seconds RetCode: 0 Status: OK