Package: HiCDOC Version: 1.11.2 Command: /Library/Frameworks/R.framework/Resources/bin/R CMD build --keep-empty-dirs --no-resave-data HiCDOC StartedAt: 2025-10-05 17:22:10 -0400 (Sun, 05 Oct 2025) EndedAt: 2025-10-05 17:25:28 -0400 (Sun, 05 Oct 2025) EllapsedTime: 198.6 seconds RetCode: 0 Status: OK PackageFile: HiCDOC_1.11.2.tar.gz PackageFileSize: 3.529 MiB