Package: HiCDCPlus Version: 1.17.0 Command: F:\biocbuild\bbs-3.22-bioc\R\bin\R.exe CMD INSTALL HiCDCPlus StartedAt: 2025-08-14 17:00:06 -0400 (Thu, 14 Aug 2025) EndedAt: 2025-08-14 17:01:06 -0400 (Thu, 14 Aug 2025) EllapsedTime: 60.2 seconds RetCode: 0 Status: OK