Package: HiCDCPlus Version: 1.17.0 Command: chmod a+r HiCDCPlus -R && F:\biocbuild\bbs-3.22-bioc\R\bin\R.exe CMD build --keep-empty-dirs --no-resave-data HiCDCPlus StartedAt: 2025-08-14 20:46:26 -0400 (Thu, 14 Aug 2025) EndedAt: 2025-08-14 20:50:17 -0400 (Thu, 14 Aug 2025) EllapsedTime: 231.9 seconds RetCode: 0 Status: OK PackageFile: HiCDCPlus_1.17.0.tar.gz PackageFileSize: 1.189 MiB