Package: HiCDCPlus Version: 1.17.0 Command: rm -rf HiCDCPlus.buildbin-libdir && mkdir HiCDCPlus.buildbin-libdir && F:\biocbuild\bbs-3.22-bioc\R\bin\R.exe CMD INSTALL --build --library=HiCDCPlus.buildbin-libdir HiCDCPlus_1.17.0.tar.gz StartedAt: 2025-08-15 10:27:55 -0400 (Fri, 15 Aug 2025) EndedAt: 2025-08-15 10:29:04 -0400 (Fri, 15 Aug 2025) EllapsedTime: 69.0 seconds RetCode: 0 Status: OK PackageFile: HiCDCPlus_1.17.0.zip PackageFileSize: 1.777 MiB