Package: HiCDCPlus Version: 1.19.0 Command: /home/biocbuild/bbs-3.23-bioc/R/bin/R CMD INSTALL HiCDCPlus StartedAt: 2025-11-04 15:51:50 -0500 (Tue, 04 Nov 2025) EndedAt: 2025-11-04 15:52:33 -0500 (Tue, 04 Nov 2025) EllapsedTime: 42.9 seconds RetCode: 0 Status: OK