Package: HiCBricks Version: 1.27.1 Command: /home/biocbuild/R/R/bin/R CMD INSTALL HiCBricks StartedAt: 2025-10-23 20:35:05 -0000 (Thu, 23 Oct 2025) EndedAt: 2025-10-23 20:35:28 -0000 (Thu, 23 Oct 2025) EllapsedTime: 23.0 seconds RetCode: 0 Status: OK