Package: HiCBricks Version: 1.27.1 Command: /Library/Frameworks/R.framework/Resources/bin/R CMD INSTALL HiCBricks StartedAt: 2025-09-30 15:16:54 -0400 (Tue, 30 Sep 2025) EndedAt: 2025-09-30 15:17:19 -0400 (Tue, 30 Sep 2025) EllapsedTime: 25.2 seconds RetCode: 0 Status: OK