Package: HiCBricks Version: 1.27.1 Command: /Library/Frameworks/R.framework/Resources/bin/R CMD build --keep-empty-dirs --no-resave-data HiCBricks StartedAt: 2025-09-30 17:18:47 -0400 (Tue, 30 Sep 2025) EndedAt: 2025-09-30 17:20:39 -0400 (Tue, 30 Sep 2025) EllapsedTime: 112.0 seconds RetCode: 0 Status: OK PackageFile: HiCBricks_1.27.1.tar.gz PackageFileSize: 8.598 MiB