Package: HiCBricks Version: 1.27.1 Command: rm -rf HiCBricks.buildbin-libdir && mkdir HiCBricks.buildbin-libdir && /Users/biocbuild/BBS/utils/build-universal.sh HiCBricks_1.27.1.tar.gz /Library/Frameworks/R.framework/Resources/bin/R HiCBricks.buildbin-libdir StartedAt: 2025-10-03 02:01:42 -0400 (Fri, 03 Oct 2025) EndedAt: 2025-10-03 02:02:12 -0400 (Fri, 03 Oct 2025) EllapsedTime: 29.9 seconds RetCode: 0 Status: OK PackageFile: HiCBricks_1.27.1.tgz PackageFileSize: 9.094 MiB