Package: HiCBricks Version: 1.27.1 Maintainer: Koustav Pal MaintainerEmail: koustav.pal at ifom.eu git_url: https://git.bioconductor.org/packages/HiCBricks git_branch: devel git_last_commit: 71e4813 git_last_commit_date: 2025-07-22 20:39:06 -0400 (Tue, 22 Jul 2025)