Package: Herper Version: 1.21.0 Command: /home/biocbuild/bbs-3.23-bioc/R/bin/R CMD INSTALL Herper StartedAt: 2025-11-21 15:11:38 -0500 (Fri, 21 Nov 2025) EndedAt: 2025-11-21 15:11:46 -0500 (Fri, 21 Nov 2025) EllapsedTime: 8.4 seconds RetCode: 0 Status: OK