Package: Herper Version: 1.21.0 Command: /home/biocbuild/bbs-3.23-bioc/R/bin/R CMD build --keep-empty-dirs --no-resave-data Herper StartedAt: 2025-11-21 18:03:02 -0500 (Fri, 21 Nov 2025) EndedAt: 2025-11-21 18:03:13 -0500 (Fri, 21 Nov 2025) EllapsedTime: 11.0 seconds RetCode: 0 Status: OK PackageFile: Herper_1.21.0.tar.gz PackageFileSize: 408.7 KiB