Package: Herper Version: 1.21.0 Command: /Library/Frameworks/R.framework/Resources/bin/R CMD build --keep-empty-dirs --no-resave-data Herper StartedAt: 2025-11-21 17:18:12 -0500 (Fri, 21 Nov 2025) EndedAt: 2025-11-21 17:18:27 -0500 (Fri, 21 Nov 2025) EllapsedTime: 14.8 seconds RetCode: 0 Status: OK PackageFile: Herper_1.21.0.tar.gz PackageFileSize: 408.6 KiB