Package: Herper Version: 1.19.3 Command: /Library/Frameworks/R.framework/Resources/bin/R CMD build --keep-empty-dirs --no-resave-data Herper StartedAt: 2025-10-24 16:42:28 -0400 (Fri, 24 Oct 2025) EndedAt: 2025-10-24 16:42:32 -0400 (Fri, 24 Oct 2025) EllapsedTime: 4.0 seconds RetCode: 0 Status: OK PackageFile: Herper_1.19.3.tar.gz PackageFileSize: 408.6 KiB