Package: HelloRanges Version: 1.37.0 Command: /home/biocbuild/bbs-3.23-bioc/R/bin/R CMD INSTALL HelloRanges StartedAt: 2025-11-04 15:39:45 -0500 (Tue, 04 Nov 2025) EndedAt: 2025-11-04 15:40:26 -0500 (Tue, 04 Nov 2025) EllapsedTime: 40.8 seconds RetCode: 0 Status: OK